BEGIN:VCALENDAR
VERSION:2.0
PRODID:-//Scouts Sint-Jan Oostende - ECPv6.0.9//NONSGML v1.0//EN
CALSCALE:GREGORIAN
METHOD:PUBLISH
X-WR-CALNAME:Scouts Sint-Jan Oostende
X-ORIGINAL-URL:https://www.scouts-sintjan.be
X-WR-CALDESC:Events for Scouts Sint-Jan Oostende
REFRESH-INTERVAL;VALUE=DURATION:PT1H
X-Robots-Tag:noindex
X-PUBLISHED-TTL:PT1H
BEGIN:VTIMEZONE
TZID:Europe/Brussels
BEGIN:DAYLIGHT
TZOFFSETFROM:+0100
TZOFFSETTO:+0200
TZNAME:CEST
DTSTART:20220327T010000
END:DAYLIGHT
BEGIN:STANDARD
TZOFFSETFROM:+0200
TZOFFSETTO:+0100
TZNAME:CET
DTSTART:20221030T010000
END:STANDARD
END:VTIMEZONE
BEGIN:VEVENT
DTSTART;TZID=Europe/Brussels:20220403T134500
DTEND;TZID=Europe/Brussels:20220403T173000
DTSTAMP:20260424T170250
CREATED:20220125T114821Z
LAST-MODIFIED:20220223T135837Z
UID:5180-1648993500-1649007000@www.scouts-sintjan.be
SUMMARY:Paasvakantie
DESCRIPTION:Geen Scouts 🙁
URL:https://www.scouts-sintjan.be/event/uitstap/
LOCATION:Scouts Sint-Jan\, Lindenlaan 30 B\, Oostende\, 8400\, België
CATEGORIES:Jongverkenners
END:VEVENT
BEGIN:VEVENT
DTSTART;TZID=Europe/Brussels:20220403T134500
DTEND;TZID=Europe/Brussels:20220403T173000
DTSTAMP:20260424T170250
CREATED:20220202T121954Z
LAST-MODIFIED:20220223T135901Z
UID:5241-1648993500-1649007000@www.scouts-sintjan.be
SUMMARY:Paasvakantie
DESCRIPTION:Geen scouts 🙁
URL:https://www.scouts-sintjan.be/event/cluedo/
LOCATION:Scouts Sint-Jan\, Lindenlaan 30 B\, Oostende\, 8400\, België
CATEGORIES:Kapoenen
END:VEVENT
BEGIN:VEVENT
DTSTART;TZID=Europe/Brussels:20220403T140000
DTEND;TZID=Europe/Brussels:20220403T173000
DTSTAMP:20260424T170250
CREATED:20220208T213734Z
LAST-MODIFIED:20220223T135921Z
UID:5274-1648994400-1649007000@www.scouts-sintjan.be
SUMMARY:Paasvakantie
DESCRIPTION:Geen Scouts 🙁
URL:https://www.scouts-sintjan.be/event/geen-scouts-2/
CATEGORIES:Verkenners
END:VEVENT
BEGIN:VEVENT
DTSTART;TZID=Europe/Brussels:20220403T140000
DTEND;TZID=Europe/Brussels:20220403T173000
DTSTAMP:20260424T170250
CREATED:20220223T140017Z
LAST-MODIFIED:20220223T140017Z
UID:5295-1648994400-1649007000@www.scouts-sintjan.be
SUMMARY:Paasvakantie
DESCRIPTION:Geen Scouts 🙁
URL:https://www.scouts-sintjan.be/event/paasvakantie-2/
CATEGORIES:Welpen
END:VEVENT
END:VCALENDAR