BEGIN:VCALENDAR
VERSION:2.0
PRODID:-//Scouts Sint-Jan Oostende - ECPv6.0.9//NONSGML v1.0//EN
CALSCALE:GREGORIAN
METHOD:PUBLISH
X-WR-CALNAME:Scouts Sint-Jan Oostende
X-ORIGINAL-URL:https://www.scouts-sintjan.be
X-WR-CALDESC:Events for Scouts Sint-Jan Oostende
REFRESH-INTERVAL;VALUE=DURATION:PT1H
X-Robots-Tag:noindex
X-PUBLISHED-TTL:PT1H
BEGIN:VTIMEZONE
TZID:Europe/Brussels
BEGIN:DAYLIGHT
TZOFFSETFROM:+0100
TZOFFSETTO:+0200
TZNAME:CEST
DTSTART:20220327T010000
END:DAYLIGHT
BEGIN:STANDARD
TZOFFSETFROM:+0200
TZOFFSETTO:+0100
TZNAME:CET
DTSTART:20221030T010000
END:STANDARD
END:VTIMEZONE
BEGIN:VEVENT
DTSTART;TZID=Europe/Brussels:20220312T170000
DTEND;TZID=Europe/Brussels:20220312T233000
DTSTAMP:20260424T182704
CREATED:20220208T213453Z
LAST-MODIFIED:20220208T213453Z
UID:5268-1647104400-1647127800@www.scouts-sintjan.be
SUMMARY:Overnachting
DESCRIPTION:Dit staat verkeerd in het seintje … oeps! De overnachting gaat weldegelijk door op 12/03!
URL:https://www.scouts-sintjan.be/event/overnachting/
LOCATION:Scouts Sint-Jan\, Lindenlaan 30 B\, Oostende\, 8400\, België
CATEGORIES:Verkenners
END:VEVENT
END:VCALENDAR