BEGIN:VCALENDAR
VERSION:2.0
PRODID:-//Scouts Sint-Jan Oostende - ECPv6.0.9//NONSGML v1.0//EN
CALSCALE:GREGORIAN
METHOD:PUBLISH
X-ORIGINAL-URL:https://www.scouts-sintjan.be
X-WR-CALDESC:Events for Scouts Sint-Jan Oostende
REFRESH-INTERVAL;VALUE=DURATION:PT1H
X-Robots-Tag:noindex
X-PUBLISHED-TTL:PT1H
BEGIN:VTIMEZONE
TZID:Europe/Brussels
BEGIN:DAYLIGHT
TZOFFSETFROM:+0100
TZOFFSETTO:+0200
TZNAME:CEST
DTSTART:20220327T010000
END:DAYLIGHT
BEGIN:STANDARD
TZOFFSETFROM:+0200
TZOFFSETTO:+0100
TZNAME:CET
DTSTART:20221030T010000
END:STANDARD
END:VTIMEZONE
BEGIN:VEVENT
DTSTART;TZID=Europe/Brussels:20220227T134500
DTEND;TZID=Europe/Brussels:20220227T173000
DTSTAMP:20260424T195225
CREATED:20220202T121004Z
LAST-MODIFIED:20220202T121004Z
UID:5231-1645969500-1645983000@www.scouts-sintjan.be
SUMMARY:Kleurenspel
DESCRIPTION:Voel jij je blauw vandaag? Of toch meer groen?
URL:https://www.scouts-sintjan.be/event/kleurenspel/
CATEGORIES:Kapoenen
END:VEVENT
BEGIN:VEVENT
DTSTART;TZID=Europe/Brussels:20220227T140000
DTEND;TZID=Europe/Brussels:20220227T173000
DTSTAMP:20260424T195225
CREATED:20220201T175418Z
LAST-MODIFIED:20220223T141455Z
UID:5212-1645970400-1645983000@www.scouts-sintjan.be
SUMMARY:Knutselen
DESCRIPTION:Blad\, Steen\, Schaar!! Daar kan je al wat mee knutselen… Maar heb je ooit al eens geknutseld met suikerklontjes?
URL:https://www.scouts-sintjan.be/event/zwemmen/
CATEGORIES:Welpen
END:VEVENT
BEGIN:VEVENT
DTSTART;TZID=Europe/Brussels:20220227T141500
DTEND;TZID=Europe/Brussels:20220227T170000
DTSTAMP:20260424T195225
CREATED:20220125T114821Z
LAST-MODIFIED:20220220T221527Z
UID:5177-1645971300-1645981200@www.scouts-sintjan.be
SUMMARY:Alle eendjes...
DESCRIPTION:Spetter pieter pater zwem maar in het water
URL:https://www.scouts-sintjan.be/event/alle-eendjes/
LOCATION:zwembad oostende (Brigitte Becue)
CATEGORIES:Jongverkenners
END:VEVENT
END:VCALENDAR